BEGIN:VCALENDAR
VERSION:2.0
PRODID:-//NurEinShop//EventExport//DE
BEGIN:VEVENT
UID:21b16c45d7c30bd0625f880d
DTSTAMP:20260420T122722Z
DTSTART:20260517T051500
DTEND:20260517T163000
SUMMARY:Museumsöffnung in Grosseicholzheim
DESCRIPTION:Dr.Folke Damminger referiert über die aktuell geplanten Ausgrabungen an der " Birk"
LOCATION:
END:VEVENT
END:VCALENDAR