BEGIN:VCALENDAR
VERSION:2.0
PRODID:-//NurEinShop//EventExport//DE
BEGIN:VEVENT
UID:1a99d9d5b035c358219f31a6
DTSTAMP:20260420T130555Z
DTSTART:20260801T000000
DTEND:20260803T235900
SUMMARY:Sennfelder Dorffest
DESCRIPTION:
LOCATION:
END:VEVENT
END:VCALENDAR